BEGIN:VCALENDAR
VERSION:2.0
PRODID:-//Squarespace Inc/Squarespace 6//v6//EN
BEGIN:VEVENT
UID:59a8d642e6f2e19fec1ca331@squarespace.com
DTSTAMP:20170901T034207Z
DTSTART:20171209T140000Z
DTEND:20171210T030000Z
SUMMARY:Auckland
END:VEVENT
END:VCALENDAR
