BEGIN:VCALENDAR
VERSION:2.0
PRODID:-//Squarespace Inc/Squarespace 6//v6//EN
BEGIN:VEVENT
UID:59a8dc4f15d5db5bf111d916@squarespace.com
DTSTAMP:20170901T040644Z
DTSTART:20171227T053000Z
DTEND:20171231T063000Z
SUMMARY:South Island
END:VEVENT
END:VCALENDAR
