BEGIN:VCALENDAR
VERSION:2.0
PRODID:-//Squarespace Inc/Squarespace 6//v6//EN
BEGIN:VEVENT
UID:5a3781459140b7643709065e@squarespace.com
DTSTAMP:20171218T085247Z
DTSTART:20171224T140000Z
DTEND:20171225T030000Z
SUMMARY:South Island
END:VEVENT
END:VCALENDAR
