BEGIN:VCALENDAR
VERSION:2.0
PRODID:-//Squarespace Inc/Squarespace 6//v6//EN
BEGIN:VEVENT
UID:59a8dbf6cd0f688dfb9c7c0e@squarespace.com
DTSTAMP:20170901T040626Z
DTSTART:20171223T053000Z
DTEND:20171226T063000Z
SUMMARY:South Island
END:VEVENT
END:VCALENDAR
