BEGIN:VCALENDAR
VERSION:2.0
PRODID:-//Squarespace Inc/Squarespace 6//v6//EN
BEGIN:VEVENT
UID:5a35733824a6949ae3d72333@squarespace.com
DTSTAMP:20171216T192920Z
DTSTART:20171221T143000Z
DTEND:20171221T213000Z
SUMMARY:Around Auckland
END:VEVENT
END:VCALENDAR
