BEGIN:VCALENDAR
VERSION:2.0
PRODID:-//Squarespace Inc/Squarespace 6//v6//EN
BEGIN:VEVENT
UID:59a8d983be42d6ad5313ab13@squarespace.com
DTSTAMP:20170901T035618Z
DTSTART:20171220T050000Z
DTEND:20171220T060000Z
SUMMARY:Auckland
END:VEVENT
END:VCALENDAR
