BEGIN:VCALENDAR
VERSION:2.0
PRODID:-//Squarespace Inc/Squarespace 6//v6//EN
BEGIN:VEVENT
UID:5a3780c7f9619a424b82863d@squarespace.com
DTSTAMP:20171218T084951Z
DTSTART:20171219T140000Z
DTEND:20171220T030000Z
SUMMARY:West Coast Beaches
END:VEVENT
END:VCALENDAR
