BEGIN:VCALENDAR
VERSION:2.0
PRODID:-//Squarespace Inc/Squarespace 6//v6//EN
BEGIN:VEVENT
UID:59a8d889d2b8575fad2fbfb8@squarespace.com
DTSTAMP:20170901T035014Z
DTSTART:20171217T050000Z
DTEND:20171217T060000Z
SUMMARY:Auckland
END:VEVENT
END:VCALENDAR
