BEGIN:VCALENDAR
VERSION:2.0
PRODID:-//Squarespace Inc/Squarespace 6//v6//EN
BEGIN:VEVENT
UID:59a8d71df14aa182d03cf7dc@squarespace.com
DTSTAMP:20170901T034709Z
DTSTART:20171214T140000Z
DTEND:20171214T150000Z
SUMMARY:Auckland
END:VEVENT
END:VCALENDAR
