BEGIN:VCALENDAR
VERSION:2.0
PRODID:-//Squarespace Inc/Squarespace 6//v6//EN
BEGIN:VEVENT
UID:59d0aa36268b96ef862604d9@squarespace.com
DTSTAMP:20171001T084246Z
DTSTART:20171213T140000Z
DTEND:20171213T210000Z
SUMMARY:Around Auckland
END:VEVENT
END:VCALENDAR
