BEGIN:VCALENDAR
VERSION:2.0
PRODID:-//Squarespace Inc/Squarespace 6//v6//EN
BEGIN:VEVENT
UID:59a8d22bccc5c52360cd39ae@squarespace.com
DTSTAMP:20170901T032806Z
DTSTART:20171106T143000Z
DTEND:20171106T153000Z
SUMMARY:Auckland walk
END:VEVENT
END:VCALENDAR
