BEGIN:VCALENDAR
VERSION:2.0
PRODID:-//Squarespace Inc/Squarespace 6//v6//EN
BEGIN:VEVENT
UID:59a8d140e6f2e19fec1c6823@squarespace.com
DTSTAMP:20170901T031857Z
DTSTART:20171105T163000Z
DTEND:20171105T173000Z
SUMMARY:Muriwai
END:VEVENT
END:VCALENDAR
