BEGIN:VCALENDAR
VERSION:2.0
PRODID:-//Squarespace Inc/Squarespace 6//v6//EN
BEGIN:VEVENT
UID:59a8d071c027d8b6d6018803@squarespace.com
DTSTAMP:20170901T031702Z
DTSTART:20171104T133000Z
DTEND:20171105T023000Z
SUMMARY:Auckland
END:VEVENT
END:VCALENDAR
