BEGIN:VCALENDAR
VERSION:2.0
PRODID:-//Squarespace Inc/Squarespace 6//v6//EN
BEGIN:VEVENT
UID:59c1ffeab1ffb671d91847f9@squarespace.com
DTSTAMP:20170920T214315Z
DTSTART:20171129T140000Z
DTEND:20171129T220000Z
SUMMARY:Muriwai Beach
END:VEVENT
END:VCALENDAR
