BEGIN:VCALENDAR
VERSION:2.0
PRODID:-//Squarespace Inc/Squarespace 6//v6//EN
BEGIN:VEVENT
UID:59c1d45db7411cb6bc8e40e7@squarespace.com
DTSTAMP:20170920T214335Z
DTSTART:20171128T180000Z
DTEND:20171129T010000Z
SUMMARY:Auckland City tour
END:VEVENT
END:VCALENDAR
