BEGIN:VCALENDAR
VERSION:2.0
PRODID:-//Squarespace Inc/Squarespace 6//v6//EN
BEGIN:VEVENT
UID:59a8d5e903596e26c0c1ce67@squarespace.com
DTSTAMP:20170901T033813Z
DTSTART:20171127T140000Z
DTEND:20171127T150000Z
SUMMARY:Auckland
END:VEVENT
END:VCALENDAR
