BEGIN:VCALENDAR
VERSION:2.0
PRODID:-//Squarespace Inc/Squarespace 6//v6//EN
BEGIN:VEVENT
UID:59a8d557197aea0d4c900e74@squarespace.com
DTSTAMP:20170901T033619Z
DTSTART:20171123T140000Z
DTEND:20171124T030000Z
SUMMARY:Muriwai
END:VEVENT
END:VCALENDAR
