BEGIN:VCALENDAR
VERSION:2.0
PRODID:-//Squarespace Inc/Squarespace 6//v6//EN
BEGIN:VEVENT
UID:59cdfdce8419c21a13a4b70c@squarespace.com
DTSTAMP:20170929T080320Z
DTSTART:20171102T123000Z
DTEND:20171102T203000Z
SUMMARY:Auckland Sights
END:VEVENT
END:VCALENDAR
