BEGIN:VCALENDAR
VERSION:2.0
PRODID:-//Squarespace Inc/Squarespace 6//v6//EN
BEGIN:VEVENT
UID:59a8d3f103596e26c0c1b6f8@squarespace.com
DTSTAMP:20170901T033059Z
DTSTART:20171110T163000Z
DTEND:20171110T233000Z
SUMMARY:Auckland
END:VEVENT
END:VCALENDAR
