BEGIN:VCALENDAR
VERSION:2.0
PRODID:-//Squarespace Inc/Squarespace 6//v6//EN
BEGIN:VEVENT
UID:59cdfd4af43b55d3cecb2953@squarespace.com
DTSTAMP:20170929T080050Z
DTSTART:20171101T120000Z
DTEND:20171101T200000Z
SUMMARY:Auckland Sightseeing
END:VEVENT
END:VCALENDAR
