BEGIN:VCALENDAR
VERSION:2.0
PRODID:-//Squarespace Inc/Squarespace 6//v6//EN
BEGIN:VEVENT
UID:59c2dea549fc2bd4747995b0@squarespace.com
DTSTAMP:20170925T015749Z
DTSTART:20171007T100000Z
DTEND:20171021T230000Z
SUMMARY:Unavailable
END:VEVENT
END:VCALENDAR
