BEGIN:VCALENDAR
VERSION:2.0
PRODID:-//Squarespace Inc/Squarespace 6//v6//EN
BEGIN:VEVENT
UID:59cdfc8ae9bfdf05fd1dba43@squarespace.com
DTSTAMP:20170929T075835Z
DTSTART:20171031T130000Z
DTEND:20171031T200000Z
SUMMARY:Auckland Sights
END:VEVENT
END:VCALENDAR
