BEGIN:VCALENDAR
VERSION:2.0
PRODID:-//Squarespace Inc/Squarespace 6//v6//EN
BEGIN:VEVENT
UID:59a8cfac3e00be4c799e91b1@squarespace.com
DTSTAMP:20170901T031252Z
DTSTART:20171023T133000Z
DTEND:20171024T023000Z
SUMMARY:Zouzou custom tour
END:VEVENT
END:VCALENDAR
