BEGIN:VCALENDAR
VERSION:2.0
PRODID:-//Squarespace Inc/Squarespace 6//v6//EN
BEGIN:VEVENT
UID:59a8cf6515d5db5bf1113d6b@squarespace.com
DTSTAMP:20170901T031015Z
DTSTART:20171022T133000Z
DTEND:20171022T143000Z
SUMMARY:Zouzou custom tour
END:VEVENT
END:VCALENDAR
