BEGIN:VCALENDAR
VERSION:2.0
PRODID:-//Squarespace Inc/Squarespace 6//v6//EN
BEGIN:VEVENT
UID:5816917559cc689660b3dc6a@squarespace.com
DTSTAMP:20161031T010633Z
DTSTART:20170109T140000Z
DTEND:20170109T150000Z
SUMMARY:Booked - Waitomo Caves
END:VEVENT
END:VCALENDAR
