BEGIN:VCALENDAR
VERSION:2.0
PRODID:-//Squarespace Inc/Squarespace 6//v6//EN
BEGIN:VEVENT
UID:58853649f5e2313533f797f9@squarespace.com
DTSTAMP:20170122T225027Z
DTSTART:20170131T140000Z
DTEND:20170131T210000Z
SUMMARY:Booked - Auckland
END:VEVENT
END:VCALENDAR
