BEGIN:VCALENDAR
VERSION:2.0
PRODID:-//Squarespace Inc/Squarespace 6//v6//EN
BEGIN:VEVENT
UID:5816b8fa15d5dbcebacd3092@squarespace.com
DTSTAMP:20161031T032337Z
DTSTART:20170129T143000Z
DTEND:20170129T153000Z
SUMMARY:Booked - Auckland
END:VEVENT
END:VCALENDAR
