BEGIN:VCALENDAR
VERSION:2.0
PRODID:-//Squarespace Inc/Squarespace 6//v6//EN
BEGIN:VEVENT
UID:588533e946c3c44ae81b01d4@squarespace.com
DTSTAMP:20170122T224600Z
DTSTART:20170127T140000Z
DTEND:20170127T220000Z
SUMMARY:Booked - Auckland
END:VEVENT
END:VCALENDAR
