BEGIN:VCALENDAR
VERSION:2.0
PRODID:-//Squarespace Inc/Squarespace 6//v6//EN
BEGIN:VEVENT
UID:5885325d414fb5b1b2e9b136@squarespace.com
DTSTAMP:20170122T224127Z
DTSTART:20170125T133000Z
DTEND:20170125T223000Z
SUMMARY:Booked - Auckland
END:VEVENT
END:VCALENDAR
