BEGIN:VCALENDAR
VERSION:2.0
PRODID:-//Squarespace Inc/Squarespace 6//v6//EN
BEGIN:VEVENT
UID:5816b8bfcd0f682fcba5c5e6@squarespace.com
DTSTAMP:20161031T032225Z
DTSTART:20170124T143000Z
DTEND:20170124T153000Z
SUMMARY:Booked - Auckland
END:VEVENT
END:VCALENDAR
