BEGIN:VCALENDAR
VERSION:2.0
PRODID:-//Squarespace Inc/Squarespace 6//v6//EN
BEGIN:VEVENT
UID:57e378592e69cffe30a20183@squarespace.com
DTSTAMP:20160922T062155Z
DTSTART:20160915T063000Z
DTEND:20161015T073000Z
SUMMARY:Booked - Japan
END:VEVENT
END:VCALENDAR
