BEGIN:VCALENDAR
VERSION:2.0
PRODID:-//Squarespace Inc/Squarespace 6//v6//EN
BEGIN:VEVENT
UID:5816b6cb29687f5a8ab5e8c8@squarespace.com
DTSTAMP:20161031T031405Z
DTSTART:20161207T143000Z
DTEND:20161207T153000Z
SUMMARY:Booked - Auckland
END:VEVENT
END:VCALENDAR
