BEGIN:VCALENDAR
VERSION:2.0
PRODID:-//Squarespace Inc/Squarespace 6//v6//EN
BEGIN:VEVENT
UID:58168a82414fb51499f055ab@squarespace.com
DTSTAMP:20161031T001050Z
DTSTART:20161106T003000Z
DTEND:20161106T013000Z
SUMMARY:Booked - Hobbiton
END:VEVENT
END:VCALENDAR
