BEGIN:VCALENDAR
VERSION:2.0
PRODID:-//Squarespace Inc/Squarespace 6//v6//EN
BEGIN:VEVENT
UID:58168ff859cc689660b3ce8c@squarespace.com
DTSTAMP:20161031T002923Z
DTSTART:20161228T013000Z
DTEND:20170108T023000Z
SUMMARY:Booked - South Island Trip
END:VEVENT
END:VCALENDAR
