BEGIN:VCALENDAR
VERSION:2.0
PRODID:-//Squarespace Inc/Squarespace 6//v6//EN
BEGIN:VEVENT
UID:58168e9515d5dbcebacbb827@squarespace.com
DTSTAMP:20161031T002632Z
DTSTART:20161225T133000Z
DTEND:20161226T223000Z
SUMMARY:Booked - Wellington
END:VEVENT
END:VCALENDAR
