BEGIN:VCALENDAR
VERSION:2.0
PRODID:-//Squarespace Inc/Squarespace 6//v6//EN
BEGIN:VEVENT
UID:5816b7ce1b631bded31b00e7@squarespace.com
DTSTAMP:20161031T031839Z
DTSTART:20161223T143000Z
DTEND:20161223T223000Z
SUMMARY:Booked - Auckland
END:VEVENT
END:VCALENDAR
