BEGIN:VCALENDAR
VERSION:2.0
PRODID:-//Squarespace Inc/Squarespace 6//v6//EN
BEGIN:VEVENT
UID:5816b72fb8a79bcbacb1560f@squarespace.com
DTSTAMP:20161031T031708Z
DTSTART:20161221T143000Z
DTEND:20161221T223000Z
SUMMARY:Booked - Auckland
END:VEVENT
END:VCALENDAR
