BEGIN:VCALENDAR
VERSION:2.0
PRODID:-//Squarespace Inc/Squarespace 6//v6//EN
BEGIN:VEVENT
UID:57e3795a20099ef76ff7e3f6@squarespace.com
DTSTAMP:20161031T031257Z
DTSTART:20161202T133000Z
DTEND:20161202T223000Z
SUMMARY:Booked - Auckland
END:VEVENT
END:VCALENDAR
