BEGIN:VCALENDAR
VERSION:2.0
PRODID:-//Squarespace Inc/Squarespace 6//v6//EN
BEGIN:VEVENT
UID:58168d8c29687f5a8ab471ff@squarespace.com
DTSTAMP:20161031T001815Z
DTSTART:20161216T133000Z
DTEND:20161216T143000Z
SUMMARY:Booked - Auckland
END:VEVENT
END:VCALENDAR
