BEGIN:VCALENDAR
VERSION:2.0
PRODID:-//Squarespace Inc/Squarespace 6//v6//EN
BEGIN:VEVENT
UID:5816b57346c3c4f1cb266797@squarespace.com
DTSTAMP:20161031T031218Z
DTSTART:20161201T143000Z
DTEND:20161201T223000Z
SUMMARY:Booked - Auckland
END:VEVENT
END:VCALENDAR
