BEGIN:VCALENDAR
VERSION:2.0
PRODID:-//Squarespace Inc/Squarespace 6//v6//EN
BEGIN:VEVENT
UID:57e378fc20099ef76ff7e206@squarespace.com
DTSTAMP:20161031T001200Z
DTSTART:20161107T133000Z
DTEND:20161109T223000Z
SUMMARY:Booked - Auckland
END:VEVENT
END:VCALENDAR
