BEGIN:VCALENDAR
VERSION:2.0
PRODID:-//Squarespace Inc/Squarespace 6//v6//EN
BEGIN:VEVENT
UID:5816b40637c581849eb5fed2@squarespace.com
DTSTAMP:20161031T030258Z
DTSTART:20161125T043000Z
DTEND:20161125T053000Z
SUMMARY:Booked - Mt Maunganui
END:VEVENT
END:VCALENDAR
