BEGIN:VCALENDAR
VERSION:2.0
PRODID:-//Squarespace Inc/Squarespace 6//v6//EN
BEGIN:VEVENT
UID:581691c9579fb3b8412c72bd@squarespace.com
DTSTAMP:20161031T003554Z
DTSTART:20161124T020000Z
DTEND:20161124T030000Z
SUMMARY:Booked - Muriwai
END:VEVENT
END:VCALENDAR
