BEGIN:VCALENDAR
VERSION:2.0
PRODID:-//Squarespace Inc/Squarespace 6//v6//EN
BEGIN:VEVENT
UID:57e3793fff7c50cf343ff99f@squarespace.com
DTSTAMP:20161031T003639Z
DTSTART:20161122T133000Z
DTEND:20161122T222900Z
SUMMARY:Booked - Auckland
END:VEVENT
END:VCALENDAR
