BEGIN:VCALENDAR
VERSION:2.0
PRODID:-//Squarespace Inc/Squarespace 6//v6//EN
BEGIN:VEVENT
UID:5816b399e4fcb5fd591cb50e@squarespace.com
DTSTAMP:20161031T030040Z
DTSTART:20161118T140000Z
DTEND:20161118T150000Z
SUMMARY:Booked - Auckland 
END:VEVENT
END:VCALENDAR
