BEGIN:VCALENDAR
VERSION:2.0
PRODID:-//Squarespace Inc/Squarespace 6//v6//EN
BEGIN:VEVENT
UID:5816b2df9f7456c3378273c3@squarespace.com
DTSTAMP:20161031T025919Z
DTSTART:20161116T130000Z
DTEND:20161116T223000Z
SUMMARY:Booked - Cooking class
END:VEVENT
END:VCALENDAR
