BEGIN:VCALENDAR
VERSION:2.0
PRODID:-//Squarespace Inc/Squarespace 6//v6//EN
BEGIN:VEVENT
UID:57e378a546c3c4b30fafbad0@squarespace.com
DTSTAMP:20160922T062255Z
DTSTART:20161022T063000Z
DTEND:20161024T073000Z
SUMMARY:Booked
END:VEVENT
END:VCALENDAR
